BEGIN:VCALENDAR
VERSION:2.0
PRODID:-//wp-events-plugin.com//7.2.2.1//EN
TZID:Europe/Tallinn
X-WR-TIMEZONE:Europe/Tallinn
BEGIN:VEVENT
UID:2@lietuviai.ee
DTSTART;TZID=Europe/Tallinn:20210904T120000
DTEND;TZID=Europe/Tallinn:20210904T160000
DTSTAMP:20210819T093604Z
URL:https://lietuviai.ee/events/lietuvos-diena-taline-2021/
SUMMARY:Lietuvos diena Taline 2021
DESCRIPTION:&nbsp\;\n&nbsp\;\nVisi žmonės kaip žmonės\, bet lietuviai n
 ebūtų lietuviais\, jei nepaisant neprognozuojamo laikmečio\, rudenį ir
  vėl imasi organizuoti Gegužinę! Taip\, LIETUVOS DIENA TALINE\, arba ki
 taip vadinama Gegužinė\, įvyks ir šiemet\, tradicinėje vietoje – Es
 tijos etnografijos muziejuje po atviru dangumi (Eesti Vabaõhumuuseum / Es
 tonian Open Air Museum).\n&nbsp\;\nLIETUVOS DIENA TALINE 2021 (Leedu päev
  Tallinnas) – tai Estijos LB ir Estijos etnografinio muziejaus po atviru
  dangumi bendras renginys\, skiriamas pristatyti Lietuvos etnografinį ir 
 kulinarinį paveldą. Renginys atviras visiems muziejaus svečiams\, o lie
 tuvių Bendruomenės nariai mėgausis išskirtiniu dėmesiu ir sąlygomis.
 \n&nbsp\;\nATLIKĖJAI\n&nbsp\;\nSavo dainomis ir šokiais mus šiemet dži
 ugins Vilniaus universiteto folkloro ansamblis "Ratilio"\n&nbsp\;\nPARODOS
 \, EDUKACINĖS DIRBTUVĖS\n&nbsp\;\nŽiemos sodų rišėja Marytė Liugien
 ė\nKarpiniai - Joana Imbrasienė\n&nbsp\;\nRENGINIO LAIKAS ir VIETA\n&nbs
 p\;\nRugsėjo 4 d.\, šeštadienis. Renginio pradžia 12.00\, pabaiga 16.0
 0. Renginys vyks Eesti Vabaõhumuuseum / Estonian Open Air Museum esančio
 je Kolu Kõrts seklyčioje\, adresu Vabaõhumuuseumi tee 12\, 13521 Tallin
 n. Į renginio vietą pateksite per pagrindinį įėjimą į muziejų paė
 ję tiesiai takeliu apie 290 metrų.&nbsp\;https://goo.gl/maps/TkCyYtxsTEJ
 2\n&nbsp\;\nĮĖJIMAS ir KAINA\n&nbsp\;\nVisiems mūsų bendruomenės nari
 ams\, užsiregistravusiems iki rugsėjo 1 d.\, bus taikoma speciali kaina:
 \nSuaugusiam – 10 eur\nNedirbantiems studentams ir nedirbantiems pensini
 nkams – 5 eur\nŠeimos bilietas – 20 eur (2 suaugę + vaikai\, jei ben
 t vienas iš šeimos narių yra ELB narys)\nNe bendruomenės nariams kaina
  25 eurai.\n&nbsp\;\nĮėjimo mokestį pervesti į ELB sąskaitą:\nBankas
 : AS SEB Pank\, 10004252\, Tornimäe 2\, 15010 Tallinn\, Estonia\, swift/b
 ic EEUHEE2X\nBanko sąskaita: SEB Pank EE121010052032000003\nGavėjas: EES
 TI LEEDULASTE ÜHENDUS MTÜ\nAdresas: Kaskede pst. 3\, 10916 Tallinn\, Est
 onia\nPaskirtis: Geguzine\n&nbsp\;\nĮ mokestį įeina įėjimas į Muziej
 ų\, programa\, karštų ir šaltų patiekalų\, šakočio bei gėrimų de
 gustacija.\n&nbsp\;\nREGISTRACIJA\n&nbsp\;\nBŪTINA išankstinė registrac
 ija dėl kelių priežasčių. Kad iš renginio visi išeitų sotūs ir la
 imingi\, būtinas tikslus sėdančių už stalo svečių skaičius. Taip p
 at\, visi iš anksto užsiregistravę į muziejų bus įleidžiami pagal i
 š anksto suderintą vardinį sąrašą\, kurį pateiksime muziejaus admin
 istracijai.\nRegistruotis čia:&nbsp\;https://docs.google.com/.../1FAIpQLS
 fcYievVFCCS9.../viewform\n&nbsp\;\nSVARBU\nTaip pat visi\, vyresni nei 18 
 m. amžiaus\, PRIVALĖS pateikti ES skaitemininį COVID19 pasą (EL digita
 alne COVID tõend) arba atvykus į renginio vietą savo lėšomis atlikti 
 greitąjį COVID19 testą.
CATEGORIES:Koncertai
END:VEVENT
BEGIN:VEVENT
UID:3@lietuviai.ee
DTSTART;TZID=Europe/Tallinn:20220312T160000
DTEND;TZID=Europe/Tallinn:20220312T190000
DTSTAMP:20220310T120150Z
URL:https://lietuviai.ee/events/elb-ataskaitinis-susirinkimas-vasario-16-o
 sios-bei-kovo-11-osios-minejimai/
SUMMARY:ELB ataskaitinis susirinkimas\; vasario 16-osios bei kovo 11-osios 
 minėjimai
DESCRIPTION:Kovo 12 d. 16 - 19 val. kartu su LR ambasada Estijoje kviečiam
 e jus visus į jungtinį renginį\, kurio metu ne tik paminėsime 2 labai 
 svarbias mums ir Lietuvai datas – vasario 16-ąją bei kovo 11-ąją\, b
 et kartu ir įvyks visuotinis ELB narių susirinkimas\, kurio metu ELB val
 dyba pristatys savo veiklos rezultatus\, supažindins su šių metų plana
 is bei bus aptarti kiti svarbūs klausimai.\n\nTikruosius ELB narius\, mok
 ančius kasmetinį nario mokestį\, kviečiame būtinai atvykti į ELB nar
 ių visuotinį susirinkimą\, kurio pradžia 16.00 val.\n\nVisi kiti yra l
 abai laukiami prisijungti prie mūsų 17.00 val.\, kuomet sulauksime sveč
 io Vilniaus universiteto Filologijos fakulteto profesoriaus\, kilusio iš 
 garsios kalbininkų dinastijos\, Jurgio Pakerio. Gimtoji kalba - didžiaus
 ias žmonijos turtas\, neatsiejama mūsų gyvenimo dalis. Mažoms tautoms 
 ją išlaikyti ir puoselėti šiais anglicizmo laikais\, nėra taip jau ir
  paprasta. Mes visi gyvenantys Estijoje esame unikalūs dar ir tuo\, kad m
 ūsų namuose skamba ne viena\, ne dvi\, bet netgi keleta kalbų. Natūral
 u\, kad daugelis esame susidūrę su klausimais\, ar lietuvių kalba labai
  panaši į estų\, į kokią kitą kalbą ji panaši\, ar yra bent panaš
 ių žodžių\, kokia abėcėlė\, ar ją sunku išmokti ir t.t. Tad apie 
 visai tai ir apie baltų ir finougrų kalbų ryšius papasakos kalbininkas
  Jurgis Pakerys.\n\nPo rimtosios dalies kviesime visus neoficialiam bendra
 vimui prie vaišių stalo.\n\nRenginiui dalines lėšas skiria Užsienio r
 eikalų ministerija.
END:VEVENT
BEGIN:VTIMEZONE
TZID:Europe/Tallinn
X-LIC-LOCATION:Europe/Tallinn
BEGIN:DAYLIGHT
DTSTART:20210328T040000
TZOFFSETFROM:+0200
TZOFFSETTO:+0300
TZNAME:EEST
END:DAYLIGHT
BEGIN:STANDARD
DTSTART:20211031T030000
TZOFFSETFROM:+0300
TZOFFSETTO:+0200
TZNAME:EET
END:STANDARD
END:VTIMEZONE
END:VCALENDAR